BEGIN:VCALENDAR
VERSION:2.0
PRODID:-//Ostréapolis - ECPv6.15.20//NONSGML v1.0//EN
CALSCALE:GREGORIAN
METHOD:PUBLISH
X-ORIGINAL-URL:https://www.ostreapolis.bzh
X-WR-CALDESC:Évènements pour Ostréapolis
REFRESH-INTERVAL;VALUE=DURATION:PT1H
X-Robots-Tag:noindex
X-PUBLISHED-TTL:PT1H
BEGIN:VTIMEZONE
TZID:Europe/Paris
BEGIN:DAYLIGHT
TZOFFSETFROM:+0100
TZOFFSETTO:+0200
TZNAME:CEST
DTSTART:20230326T010000
END:DAYLIGHT
BEGIN:STANDARD
TZOFFSETFROM:+0200
TZOFFSETTO:+0100
TZNAME:CET
DTSTART:20231029T010000
END:STANDARD
BEGIN:DAYLIGHT
TZOFFSETFROM:+0100
TZOFFSETTO:+0200
TZNAME:CEST
DTSTART:20240331T010000
END:DAYLIGHT
BEGIN:STANDARD
TZOFFSETFROM:+0200
TZOFFSETTO:+0100
TZNAME:CET
DTSTART:20241027T010000
END:STANDARD
BEGIN:DAYLIGHT
TZOFFSETFROM:+0100
TZOFFSETTO:+0200
TZNAME:CEST
DTSTART:20250330T010000
END:DAYLIGHT
BEGIN:STANDARD
TZOFFSETFROM:+0200
TZOFFSETTO:+0100
TZNAME:CET
DTSTART:20251026T010000
END:STANDARD
END:VTIMEZONE
BEGIN:VEVENT
DTSTART;TZID=Europe/Paris:20240710T143000
DTEND;TZID=Europe/Paris:20240828T153000
DTSTAMP:20260422T234825
CREATED:20240612T135437Z
LAST-MODIFIED:20240724T140301Z
UID:3002-1720621800-1724859000@www.ostreapolis.bzh
SUMMARY:Ostréapolis 2.0
DESCRIPTION:Défi-quizz à Ostréapolis ! ——> Tous les mercredis du 10 juillet au 28 août à 14h30.\nActivité en famille ou entre amis. Seul ou en équipe\, défiez-vous au travers d’une série de 20 questions sur l’ostréiculture (à partir de 8 ans).\nPuis plongez sous la surface du Golfe grâce à un casque de réalité virtuelle à la découverte des voisins des huîtres(dispositif interdit aux moins de 7 ans et déconseillés aux moins de 10 ans).\nEn partenariat avec le PNR du Golfe du MorbihanDurée de l’activité : 1h\nLieu du rendez-vous : Ostréapolis\, rue du Bois de la Salle\, 56370 Le Tour-du-Parc\nPlaces limitées\nTarifs : 6 euros par adulte / 4 euros par enfant\nInformations complémentaires : contact@ostreapolis.bzh / 02 21 02 56 71\n✅Infos et réservations sur www.ostreapolis.bzh/billetterie/
URL:https://www.ostreapolis.bzh/animations/ostreapolis-2-0/
CATEGORIES:Atelier Ostréapolis 2.0
ATTACH;FMTTYPE=image/jpeg:https://www.ostreapolis.bzh/wp-content/uploads/2024/06/2148912803.jpg
END:VEVENT
END:VCALENDAR